BEGIN:VCALENDAR
VERSION:2.0
METHOD:PUBLISH
X-WR-CALNAME:Mercociudades |  December 06 2012- December 06 2012
PRODID:-//strange bird labs//Drupal iCal API//EN
BEGIN:VEVENT
DTSTAMP;VALUE=DATE-TIME:20260419T200705Z
DTSTART;VALUE=DATE-TIME:20121205T130000Z
DTEND;VALUE=DATE-TIME:20020203
UID:http://www.mercociudades.net/pt-br/node/3793
URL;VALUE=URI:http://www.mercociudades.net/pt-br/node/3793
SUMMARY:XIII Reunión Plenaria del FCCR
DESCRIPTION:<p>Brasilia\, Brasil</p>
 
END:VEVENT
END:VCALENDAR
